BEGIN:VCALENDAR
VERSION:2.0
PRODID:-//wp-events-plugin.com//7.2.3.1//EN
TZID:Europe/Paris
X-WR-TIMEZONE:Europe/Paris
BEGIN:VEVENT
UID:95@odorokubeki.fr
DTSTART;TZID=Europe/Paris:20250712T103000
DTEND;TZID=Europe/Paris:20250712T123000
DTSTAMP:20250801T152841Z
URL:https://www.odorokubeki.fr/nos-evenements/un-gouter-avec-les-chibis-at
 elier-de-dessin
SUMMARY:Un goûter avec les chibis - atelier de dessin / matin
DESCRIPTION:Le goûter avec les chibis est un atelier de dessin proposé pa
 r Julie Hoshi\, illustratrice originaire de Fourchambault.\nSamedi 12 juil
 let\, pendant 2h\, elle vous guidera pour réaliser un dessin en mode chib
 i.\nLe chibi est un dessin kawaii\, c'est-à-dire un personnage humain ou 
 animal tout en rondeur pour le rendre mignon.\n\nLe prix de l'atelier incl
 ue la réalisation du dessin et un goûter (boisson + pâtisserie).\n\nVou
 s pouvez réserver dès maintenant directement sur le site de l'illustratr
 ice.\n\nVous retrouverez une grande partie de ses créations en boutique p
 endant votre atelier.
ATTACH;FMTTYPE=image/jpeg:https://www.odorokubeki.fr/wp-content/uploads/20
 25/07/Affiche_chibi_atelier-color-Vdef-1.jpg
CATEGORIES:Atelier créatif,Découverte gustative,Événements et ateliers
 payant
END:VEVENT
BEGIN:VTIMEZONE
TZID:Europe/Paris
X-LIC-LOCATION:Europe/Paris
BEGIN:DAYLIGHT
DTSTART:20250330T030000
TZOFFSETFROM:+0100
TZOFFSETTO:+0200
TZNAME:CEST
END:DAYLIGHT
END:VTIMEZONE
END:VCALENDAR