BEGIN:VCALENDAR
VERSION:2.0
PRODID:-//wp-events-plugin.com//7.2.3.1//EN
TZID:Europe/Paris
X-WR-TIMEZONE:Europe/Paris
BEGIN:VEVENT
UID:104@odorokubeki.fr
DTSTART;TZID=Europe/Paris:20250809T103000
DTEND;TZID=Europe/Paris:20250809T123000
DTSTAMP:20250930T101434Z
URL:https://www.odorokubeki.fr/nos-evenements/un-gouter-avec-les-chibis-at
 elier-de-dessin-special-chat-matin
SUMMARY:Un goûter avec les chibis - atelier de dessin spécial chat/ matin
DESCRIPTION:Le goûter avec les chibis est un atelier de dessin proposé pa
 r Julie Hoshi\, illustratrice originaire de Fourchambault.\nSamedi 9 Août
 \, pendant 2h\, elle vous guidera pour réaliser un dessin chibi spécial 
 chat\, en l'honneur de la journée internationale du chat du 8 août.\nLe 
 chibi est un dessin kawaii\, c'est-à-dire un personnage humain ou animal 
 tout en rondeur pour le rendre mignon.\n\nLe prix de l'atelier inclue la r
 éalisation du dessin et un goûter (boisson + pâtisserie).\n\nVous pouve
 z réserver dès maintenant directement sur le site de l'illustratrice.\n\
 nVous retrouverez une grande partie de ses créations en boutique pendant 
 votre atelier.
ATTACH;FMTTYPE=image/jpeg:https://www.odorokubeki.fr/wp-content/uploads/20
 25/07/Affiche_chibi_atelier-color-Vdef-1.jpg
CATEGORIES:Atelier créatif,Découverte gustative,Événements et ateliers
 guidés,Événements et ateliers payant
END:VEVENT
BEGIN:VTIMEZONE
TZID:Europe/Paris
X-LIC-LOCATION:Europe/Paris
BEGIN:DAYLIGHT
DTSTART:20250330T030000
TZOFFSETFROM:+0100
TZOFFSETTO:+0200
TZNAME:CEST
END:DAYLIGHT
END:VTIMEZONE
END:VCALENDAR