BEGIN:VCALENDAR
VERSION:2.0
PRODID:-//wp-events-plugin.com//7.2.3.1//EN
TZID:Europe/Paris
X-WR-TIMEZONE:Europe/Paris
BEGIN:VEVENT
UID:105@odorokubeki.fr
DTSTART;TZID=Europe/Paris:20250808T173000
DTEND;TZID=Europe/Paris:20250808T193000
DTSTAMP:20250930T101342Z
URL:https://www.odorokubeki.fr/nos-evenements/un-gouter-avec-les-chibis-at
 elier-de-dessin-special-chat-apres-midi
SUMMARY:Un goûter avec les chibis - atelier de dessin spécial chat/ aprè
 s-midi
DESCRIPTION:Le goûter avec les chibis est un atelier de dessin proposé pa
 r Julie Hoshi\, illustratrice originaire de Fourchambault.\nVendredi 8 Ao
 ût\, pendant 2h\, elle vous guidera pour réaliser un dessin chibi spéci
 al chat\, en l'honneur de la journée internationale du chat.\nLe chibi es
 t un dessin kawaii\, c'est-à-dire un personnage humain ou animal tout en 
 rondeur pour le rendre mignon.\n\nLe prix de l'atelier inclue la réalisat
 ion du dessin et un goûter (boisson + pâtisserie).\n\nVous pouvez réser
 ver dès maintenant directement sur le site de l'illustratrice.\n\nVous re
 trouverez une grande partie de ses créations en boutique pendant votre at
 elier.
ATTACH;FMTTYPE=image/jpeg:https://www.odorokubeki.fr/wp-content/uploads/20
 25/07/Affiche_chibi_atelier-color-Vdef-1.jpg
CATEGORIES:Atelier créatif,Événements et ateliers guidés,Événements
 et ateliers payant
END:VEVENT
BEGIN:VTIMEZONE
TZID:Europe/Paris
X-LIC-LOCATION:Europe/Paris
BEGIN:DAYLIGHT
DTSTART:20250330T030000
TZOFFSETFROM:+0100
TZOFFSETTO:+0200
TZNAME:CEST
END:DAYLIGHT
END:VTIMEZONE
END:VCALENDAR