BEGIN:VCALENDAR
VERSION:2.0
PRODID:-//wp-events-plugin.com//7.2.3.1//EN
TZID:Europe/Paris
X-WR-TIMEZONE:Europe/Paris
BEGIN:VEVENT
UID:122@odorokubeki.fr
DTSTART;TZID=Europe/Paris:20251025T103000
DTEND;TZID=Europe/Paris:20251025T123000
DTSTAMP:20251007T095406Z
URL:https://www.odorokubeki.fr/nos-evenements/un-gouter-avec-les-chibis-at
 elier-de-dessin-matin
SUMMARY:Nyatelier chibis - atelier de dessin spécial chat
DESCRIPTION:Le nyatelier chibis est un atelier de dessin spécial chat\, pr
 oposé par Julie Hoshi\, illustratrice originaire de Fourchambault.\nPenda
 nt 2h\, Julie vous guidera pour réaliser un dessin en mode chibi\, des pr
 emières esquisses à la fin.\nLe chibi est un dessin kawaii\, c'est-à-di
 re un personnage humain ou animal tout en rondeur pour le rendre mignon.\n
 \nLe prix de l'atelier inclue la réalisation du dessin et un goûter (boi
 sson + pâtisserie).\n\nVous pouvez réserver dès maintenant directement 
 sur le site de l'illustratrice.\n\nVous retrouverez une grande partie de s
 es créations en boutique pendant votre atelier.
ATTACH;FMTTYPE=image/jpeg:https://www.odorokubeki.fr/wp-content/uploads/20
 25/10/nyatelier.jpg
CATEGORIES:Atelier créatif,Événements et ateliers guidés,Événements
 et ateliers payant,Initiation et échange
END:VEVENT
BEGIN:VTIMEZONE
TZID:Europe/Paris
X-LIC-LOCATION:Europe/Paris
BEGIN:DAYLIGHT
DTSTART:20250330T030000
TZOFFSETFROM:+0100
TZOFFSETTO:+0200
TZNAME:CEST
END:DAYLIGHT
END:VTIMEZONE
END:VCALENDAR