BEGIN:VCALENDAR
VERSION:2.0
PRODID:-//wp-events-plugin.com//7.2.3.1//EN
TZID:Europe/Paris
X-WR-TIMEZONE:Europe/Paris
BEGIN:VEVENT
UID:123@odorokubeki.fr
DTSTART;TZID=Europe/Paris:20251025T143000
DTEND;TZID=Europe/Paris:20251025T143000
DTSTAMP:20251006T162644Z
URL:https://www.odorokubeki.fr/nos-evenements/un-gouter-avec-les-chibis-at
 elier-de-dessin-apres-midi-2
SUMMARY:Un goûter avec les chibis - atelier de dessin / Après-midi
DESCRIPTION:Le goûter avec les chibis est un atelier de dessin proposé pa
 r Julie Hoshi\, illustratrice originaire de Fourchambault.\nPendant 2h\, J
 ulie vous guidera pour réaliser un dessin en mode chibi de A à Z.\nLe ch
 ibi est un dessin kawaii\, c'est-à-dire un personnage humain ou animal to
 ut en rondeur pour le rendre mignon.\n\nLe prix de l'atelier inclue la ré
 alisation du dessin et un goûter (boisson + pâtisserie).\n\nVous pouvez 
 réserver dès maintenant directement sur le site de l'illustratrice\n\nVo
 us retrouverez une grande partie de ses créations en boutique pendant vot
 re atelier.
ATTACH;FMTTYPE=image/jpeg:https://www.odorokubeki.fr/wp-content/uploads/20
 25/07/Affiche_chibi_atelier-color-Vdef-1.jpg
CATEGORIES:Atelier créatif,Événements et ateliers guidés,Événements
 et ateliers payant,Initiation et échange
END:VEVENT
BEGIN:VTIMEZONE
TZID:Europe/Paris
X-LIC-LOCATION:Europe/Paris
BEGIN:DAYLIGHT
DTSTART:20250330T030000
TZOFFSETFROM:+0100
TZOFFSETTO:+0200
TZNAME:CEST
END:DAYLIGHT
END:VTIMEZONE
END:VCALENDAR