BEGIN:VCALENDAR
VERSION:2.0
PRODID:-//wp-events-plugin.com//7.2.3.1//EN
TZID:Europe/Paris
X-WR-TIMEZONE:Europe/Paris
BEGIN:VEVENT
UID:135@odorokubeki.fr
DTSTART;TZID=Europe/Paris:20251129T103000
DTEND;TZID=Europe/Paris:20251129T113000
DTSTAMP:20251102T162419Z
URL:https://www.odorokubeki.fr/nos-evenements/manga-club-enfant-par-lassoc
 iation-kitsune-3
SUMMARY:Manga club enfant par l'association Kitsune
DESCRIPTION:Chaque dernier samedi du mois\, le Manga club enfant par l'asso
 ciation Kitsune revient.\nUn rendez-vous mensuel en toute simplicité pour
  permettre à vos enfants\, dès 8 ans\, de partager leurs lectures et leu
 r passion du manga. Les mangavores débutants sont aussi les bienvenues\, 
 nous les initierons avec plaisir.\n\nPas de manga à lire obligatoirement\
 , juste le partage de ses dernières lectures. Ou juste écouter les autre
 s et trouver des idées de nouveaux mangas à lire.\n\nClément\, saura gu
 ider les lecteurs pendant ces échanges\, leur conseiller d'autres mangas 
 ou discuter avec les jeunes autour des sujets abordés\, des problèmes de
  compréhension rencontrés.\n\nPour les participants membres de l'associa
 tion\, 5% de remise sera accordé sur l'achat des mangas.\n\n&nbsp\;
ATTACH;FMTTYPE=image/jpeg:https://www.odorokubeki.fr/wp-content/uploads/20
 25/09/Manga-club-enfant-image.jpg
CATEGORIES:Événements et ateliers guidés,Initiation et échange,Moment
 gratuit
END:VEVENT
BEGIN:VTIMEZONE
TZID:Europe/Paris
X-LIC-LOCATION:Europe/Paris
BEGIN:STANDARD
DTSTART:20251026T020000
TZOFFSETFROM:+0200
TZOFFSETTO:+0100
TZNAME:CET
END:STANDARD
END:VTIMEZONE
END:VCALENDAR