BEGIN:VCALENDAR
VERSION:2.0
PRODID:-//wp-events-plugin.com//7.2.3.1//EN
TZID:Europe/Paris
X-WR-TIMEZONE:Europe/Paris
BEGIN:VEVENT
UID:108@odorokubeki.fr
DTSTART;TZID=Europe/Paris:20250819T180000
DTEND;TZID=Europe/Paris:20250819T194500
DTSTAMP:20250809T173503Z
URL:https://www.odorokubeki.fr/nos-evenements/initiation-a-lhanafuda-le-je
 u-des-fleurs-3
SUMMARY:Initiation à l'hanafuda - le jeu des fleurs
DESCRIPTION:Initiation à l'Hanafuda\, le jeu des fleurs\nTous les mardis d
 e l'été\, de 18H à 19H45\, venez profitez des conseils d'un passionné 
 pour vous initier à ce jeu de cartes. Débutant ou non\, nous voulons vou
 s proposer un moment de détente\, convivial et gratuit.\n\nL'hanafuda est
  un jeu de carte où il faut réaliser des combinaisons afin de faire le p
 lus de point.\n\nStratégie\, intuition et un soupçon d'audace.\n\nEt si 
 nous sommes assez nombreux\, nous ferons un tournoi pour finir l'été en 
 beauté.\n\nDernière séance de l'été\, mais surement pas le dernier re
 ndez-vous de l'année!
ATTACH;FMTTYPE=image/jpeg:https://www.odorokubeki.fr/wp-content/uploads/20
 25/07/Initiation-hanafuda-site.jpg
CATEGORIES:Initiation et échange,Moment détente,Moment gratuit
END:VEVENT
BEGIN:VTIMEZONE
TZID:Europe/Paris
X-LIC-LOCATION:Europe/Paris
BEGIN:DAYLIGHT
DTSTART:20250330T030000
TZOFFSETFROM:+0100
TZOFFSETTO:+0200
TZNAME:CEST
END:DAYLIGHT
END:VTIMEZONE
END:VCALENDAR