BEGIN:VCALENDAR
VERSION:2.0
PRODID:-//wp-events-plugin.com//7.2.3.1//EN
TZID:Europe/Paris
X-WR-TIMEZONE:Europe/Paris
BEGIN:VEVENT
UID:82@odorokubeki.fr
DTSTART;TZID=Europe/Paris:20250722T180000
DTEND;TZID=Europe/Paris:20250722T194500
DTSTAMP:20250801T152843Z
URL:https://www.odorokubeki.fr/nos-evenements/evenement-recurrent-2025-07-
 08-2025-07-09-2025-07-10-2025-07-11-2025-07-12-2025-07-15
SUMMARY:Initiation à l'hanafuda - le jeu des fleurs
DESCRIPTION:Initiation à l'Hanafuda\, le jeu des fleurs\nTous les mardis d
 e l'été\, de 18H à 19H45\, venez profitez des conseils d'un passionné 
 pour vous initier à ce jeu de cartes. Débutant ou non\, nous voulons vou
 s proposer un moment de détente\, convivial et gratuit.\n\nL'hanafuda est
  un jeu de carte où il faut réaliser des combinaisons afin de faire le p
 lus de point.\n\nStratégie\, intuition et un soupçon d'audace.\n\nEt si 
 nous sommes assez nombreux\, un tournoi sera organiser pour finir l'été 
 en beauté.
ATTACH;FMTTYPE=image/jpeg:https://www.odorokubeki.fr/wp-content/uploads/20
 25/07/Initiation-hanafuda-site.jpg
CATEGORIES:Événements et ateliers payant,Moment détente,Moment gratuit
END:VEVENT
BEGIN:VTIMEZONE
TZID:Europe/Paris
X-LIC-LOCATION:Europe/Paris
BEGIN:DAYLIGHT
DTSTART:20250330T030000
TZOFFSETFROM:+0100
TZOFFSETTO:+0200
TZNAME:CEST
END:DAYLIGHT
END:VTIMEZONE
END:VCALENDAR