BEGIN:VCALENDAR
VERSION:2.0
PRODID:-//wp-events-plugin.com//7.2.3.1//EN
TZID:Europe/Paris
X-WR-TIMEZONE:Europe/Paris
BEGIN:VEVENT
UID:84@odorokubeki.fr
DTSTART;TZID=Europe/Paris:20250717T100000
DTEND;TZID=Europe/Paris:20250717T120000
DTSTAMP:20250801T152842Z
URL:https://www.odorokubeki.fr/nos-evenements/evenement-recurrent-2025-07-
 08-2025-07-09-2025-07-10-2025-07-11-2025-07-12-2025-07-15-2025-07-16-2025-
 07-17
SUMMARY:Lecture de kamishibai et autres histoires japonaises
DESCRIPTION:Lecture de kamishibai et autres histoires japonaises\nDès 6 an
 s et pour toutes la famille\, venais commencer la journée en douceur en 
 écoutant une histoire japonaise.\n\nSi vous ne connaissez pas le kamishib
 ai\, c'est une une histoire que l'on vous raconte avec les illustrations d
 ans un butaï\, un théâtre de bois. Le conteur\, lui est situé derrièr
 e et vous narre ce qui correspond à l'image que vous voyez.\n\nDe 10H à 
 12H\, un véritable moment de détente accompagné d'un thé\, d'une pâti
 sserie ou simplement un moment de détente.
ATTACH;FMTTYPE=image/jpeg:https://www.odorokubeki.fr/wp-content/uploads/20
 25/07/Ateliers-kamishibai.jpg
CATEGORIES:Moment détente,Moment gratuit
END:VEVENT
BEGIN:VTIMEZONE
TZID:Europe/Paris
X-LIC-LOCATION:Europe/Paris
BEGIN:DAYLIGHT
DTSTART:20250330T030000
TZOFFSETFROM:+0100
TZOFFSETTO:+0200
TZNAME:CEST
END:DAYLIGHT
END:VTIMEZONE
END:VCALENDAR