BEGIN:VCALENDAR
VERSION:2.0
PRODID:-//wp-events-plugin.com//7.2.3.1//EN
TZID:Europe/Paris
X-WR-TIMEZONE:Europe/Paris
BEGIN:VEVENT
UID:102@odorokubeki.fr
DTSTART;TZID=Europe/Paris:20250723T163000
DTEND;TZID=Europe/Paris:20250723T183000
DTSTAMP:20250801T152845Z
URL:https://www.odorokubeki.fr/nos-evenements/de-la-gravure-au-decor-ateli
 er-creation-de-tampon-16h30
SUMMARY:De la gravure au décor - Atelier création de tampon / 16H30
DESCRIPTION:De la gravure au décor\, un atelier pour vous accompagner de l
 a création de vos tampons\, jusqu'à leur utilisation.\nAnne-Marie\, sous
  le nom de Moïra Swann sur les réseaux\, nous partage son univers de la 
 linogravure et des tampons depuis quelques temps. Située à Montargis\, e
 lle vient à Nevers pour vous transmettre son savoir faire.\n\nElle vous i
 nvitera\, pendant les 2h d'atelier\, à découvrir le monde de la gravure\
 , ses techniques. Mais comme rien ne vaut la pratique\, vous graverez un e
 nsemble de 2 à 3 motifs simples\, puis vous pourrez décorer\, avec les t
 ampons obtenus\, un tote bag.\n\nTout le matériel est fourni et vos repar
 tirez avec le tote bag obtenu et les tampons\, ainsi qu'un goûter.\n\nSi 
 vous voulez découvrir l'univers de cette artiste\, voici son instagram et
  son site \n\nCertaines de ses cartes gaufrées seront disponibles à la 
 vente sur place.
ATTACH;FMTTYPE=image/jpeg:https://www.odorokubeki.fr/wp-content/uploads/20
 25/07/Illustration-tampon-adulte.jpg
CATEGORIES:Atelier créatif,Événements et ateliers payant
END:VEVENT
BEGIN:VTIMEZONE
TZID:Europe/Paris
X-LIC-LOCATION:Europe/Paris
BEGIN:DAYLIGHT
DTSTART:20250330T030000
TZOFFSETFROM:+0100
TZOFFSETTO:+0200
TZNAME:CEST
END:DAYLIGHT
END:VTIMEZONE
END:VCALENDAR