BEGIN:VCALENDAR
VERSION:2.0
PRODID:-//wp-events-plugin.com//7.2.3.1//EN
TZID:Europe/Paris
X-WR-TIMEZONE:Europe/Paris
BEGIN:VEVENT
UID:87@odorokubeki.fr
DTSTART;TZID=Europe/Paris:20250726T143000
DTEND;TZID=Europe/Paris:20250726T160000
DTSTAMP:20250801T152846Z
URL:https://www.odorokubeki.fr/nos-evenements/atelier-kitsuke-ou-comment-p
 orter-un-yukata
SUMMARY:Atelier Kitsuke\, où comment porter un yukata
DESCRIPTION:Atelier Kitsuke\, où comment porter un yukata.\nVous rêvez de
  savoir porter un yukata ou un kimono\, mais vous ne savez pas par quel pa
 n commencer? Aurore revient pour vous l'enseigner.\nUn samedi après-midi 
 par mois\, vous pourrez suivre un cours seul ou en duo afin d'en apprendre
  plus sur le port du kimono (ou yukata en été). Pourquoi\, ne pas amener
  le votre qui trône dans votre garde robe ?\n\nL'atelier sera sur les tat
 amis\, pour une immersion encore plus grande.\n\nL'Histoire\, les accessoi
 res\, comment les agrémenter\, les petites choses à faire attention\, vo
 us saurez tout.\n\nIl est impératif de connaître votre taille qui vous n
 'avez pas votre propre vêtement afin d'emmener une pièce qui sera adapt
 é.
ATTACH;FMTTYPE=image/jpeg:https://www.odorokubeki.fr/wp-content/uploads/20
 25/07/1000015059.jpg
CATEGORIES:Atelier créatif,Événements et ateliers payant,Initiation et
 échange
END:VEVENT
BEGIN:VTIMEZONE
TZID:Europe/Paris
X-LIC-LOCATION:Europe/Paris
BEGIN:DAYLIGHT
DTSTART:20250330T030000
TZOFFSETFROM:+0100
TZOFFSETTO:+0200
TZNAME:CEST
END:DAYLIGHT
END:VTIMEZONE
END:VCALENDAR