BEGIN:VCALENDAR
VERSION:2.0
PRODID:-//wp-events-plugin.com//7.2.3.1//EN
TZID:Europe/Paris
X-WR-TIMEZONE:Europe/Paris
BEGIN:VEVENT
UID:138@odorokubeki.fr
DTSTART;TZID=Europe/Paris:20251128T180000
DTEND;TZID=Europe/Paris:20251128T200000
DTSTAMP:20251107T175102Z
URL:https://www.odorokubeki.fr/nos-evenements/atelier-dessin-manga-et-gout
 er-japonais-2
SUMMARY:Atelier Dessin Manga et Goûter japonais
DESCRIPTION:Atelier manga de 2H (goûter inclus) pour apprendre à dessiner
  des personnages et animaux mignons à Nevers !\nLors de cet atelier\, l'a
 rtiste Julie Hoshi\, illustratrice originaire de Fourchambault\, vous guid
 era pour dessiner un ou plusieurs chibi (humain ou animal) des pieds à la
  tête. Elle vous enseignera pas-à-pas des techniques simples pour le c
 roquis\, la peinture aux marqueurs et le line art final. Bien qu'il s'a
 gisse d'un atelier collectif\, chaque participant aura la possibilité d'
 être conseillé individuellement par l'artiste s'il le souhaite.\n\nVous 
 repartirez avec vos œuvres ainsi que tout le savoir-faire pour contin
 uer à dessiner tout.e seul.e chez vous !\n\nLe chibi est un dessin kawaii
 \, c'est-à-dire un personnage humain ou animal tout en rondeur pour le re
 ndre mignon.\n\nLe prix inclut : 2H d'atelier dessin (37€) + 1 goû
 ter japonais fait maison et 1 boisson japonaise (8€) + tout le mat
 ériel de dessin (gratuit !)\n\nVous pouvez réserver dès maintenant dir
 ectement sur le site de l'illustratrice\n\nVous retrouverez une grande par
 tie de ses créations en boutique pendant votre atelier.
ATTACH;FMTTYPE=image/jpeg:https://www.odorokubeki.fr/wp-content/uploads/20
 25/07/Affiche_chibi_atelier-color-Vdef-1.jpg
CATEGORIES:Atelier créatif,Découverte gustative,Événements et ateliers
 guidés,Événements et ateliers payant,Initiation et échange
END:VEVENT
BEGIN:VTIMEZONE
TZID:Europe/Paris
X-LIC-LOCATION:Europe/Paris
BEGIN:STANDARD
DTSTART:20251026T020000
TZOFFSETFROM:+0200
TZOFFSETTO:+0100
TZNAME:CET
END:STANDARD
END:VTIMEZONE
END:VCALENDAR