BEGIN:VCALENDAR
VERSION:2.0
PRODID:-//wp-events-plugin.com//7.2.3.1//EN
TZID:Europe/Paris
X-WR-TIMEZONE:Europe/Paris
BEGIN:VEVENT
UID:59@odorokubeki.fr
DTSTART;TZID=Europe/Paris:20250820T143000
DTEND;TZID=Europe/Paris:20250820T164500
DTSTAMP:20250809T174545Z
URL:https://www.odorokubeki.fr/nos-evenements/atelier-de-peinture-de-chat-
 2025-08-01
SUMMARY:Rencontre avec Jennifer Barroin\, styliste et couturière
DESCRIPTION:Rencontre avec Jennifer Barroin\, styliste et couturière local
 e.\nCe mercredi 20 août\, Jennifer viendra vous présenter sa collection 
 d'automne de création japonisante.\nSituée à Jouet sur l'Aubois\, elle 
 est styliste et couturière spécialisée sur le Japon. Vous pouvez vous l
 aissez tenter par des pièces proposées ou travailler ensemble sur un vê
 tement sur mesure.\n\nVous ne pouvez trouver que votre bonheur\, entre tra
 dition et modernité.\n\nA l'occasion de cette présentation\, elle saura 
 vous conseiller comment porter au mieux le Obi au quotidien.\n\nQu'est-ce 
 que c'est que le Obi? C'est la ceinture japonaise qui est utilisée pour f
 ermer les kimonos\, yukatas ou haoris. Mais ceux-ci sont 100% créations l
 ocales et fait main.\n\nPour plus de renseignement\, voici son site 
CATEGORIES:Initiation et échange,Moment gratuit
END:VEVENT
BEGIN:VTIMEZONE
TZID:Europe/Paris
X-LIC-LOCATION:Europe/Paris
BEGIN:DAYLIGHT
DTSTART:20250330T030000
TZOFFSETFROM:+0100
TZOFFSETTO:+0200
TZNAME:CEST
END:DAYLIGHT
END:VTIMEZONE
END:VCALENDAR