BEGIN:VCALENDAR
VERSION:2.0
PRODID:-//wp-events-plugin.com//7.2.3.1//EN
TZID:Europe/Paris
X-WR-TIMEZONE:Europe/Paris
BEGIN:VEVENT
UID:124@odorokubeki.fr
DTSTART;TZID=Europe/Paris:20251106T170000
DTEND;TZID=Europe/Paris:20251106T190000
DTSTAMP:20251010T093605Z
URL:https://www.odorokubeki.fr/nos-evenements/atelier-amigurumi-au-crochet
 -5
SUMMARY:Atelier Amigurumi au crochet
DESCRIPTION:Atelier de création Amigurumi au crochet\nAtelier clef en main
  avec  les conseils d'une passionnée\, nous vous proposons de vous y ess
 ayer.\nDébutant ou initié\, nous vous proposons de venir réaliser un am
 igurumi\, une petite créature kawaii (mignonne) au crochet.\nPour l'occas
 ion\, nous proposons des box avec le matériel inclus. Pour une bonne orga
 nisation\, merci de choisir le kit que vous voulez réaliser avant l'ateli
 er\, les quantités sont limitées.\n\nLe tarif inclue une box et une bois
 son.
ATTACH;FMTTYPE=image/jpeg:https://www.odorokubeki.fr/wp-content/uploads/20
 25/08/PXL_20250717_170424655.jpg
CATEGORIES:Atelier créatif,Événements et ateliers guidés,Événements
 et ateliers payant,Initiation et échange
END:VEVENT
BEGIN:VTIMEZONE
TZID:Europe/Paris
X-LIC-LOCATION:Europe/Paris
BEGIN:STANDARD
DTSTART:20251026T020000
TZOFFSETFROM:+0200
TZOFFSETTO:+0100
TZNAME:CET
END:STANDARD
END:VTIMEZONE
END:VCALENDAR