BEGIN:VCALENDAR
VERSION:2.0
PRODID:-//wp-events-plugin.com//7.2.3.1//EN
TZID:Europe/Paris
X-WR-TIMEZONE:Europe/Paris
BEGIN:VEVENT
UID:120@odorokubeki.fr
DTSTART;TZID=Europe/Paris:20251009T170000
DTEND;TZID=Europe/Paris:20251009T190000
DTSTAMP:20250930T101556Z
URL:https://www.odorokubeki.fr/nos-evenements/atelier-amigurumi-au-crochet
 -4
SUMMARY:Atelier Amigurumi au crochet
DESCRIPTION:Atelier de création Amigurumi\nAtelier clef en main avec  les
  conseils d'une passionnée\, nous vous proposons de vous y essayer.\nDéb
 utant ou initié\, nous vous proposons de venir réaliser un amigurumi\, u
 ne petite créature kawaii (mignonne) au crochet.\nPour l'occasion\, nous 
 proposons des box avec le matériel inclus.\n\nPour une bonne organisation
 \, merci de choisir le kit que vous voulez réaliser avant l'atelier (sur 
 l'illustration de l'atelier)\, les quantités sont limitées et nous ne po
 uvons pas vous assurer que vous aurez le personnage voulu.\n\nLe tarif inc
 lue une box et une boisson.
ATTACH;FMTTYPE=image/jpeg:https://www.odorokubeki.fr/wp-content/uploads/20
 25/08/PXL_20250717_170424655.jpg
CATEGORIES:Atelier créatif,Événements et ateliers guidés,Événements
 et ateliers payant,Initiation et échange
END:VEVENT
BEGIN:VTIMEZONE
TZID:Europe/Paris
X-LIC-LOCATION:Europe/Paris
BEGIN:DAYLIGHT
DTSTART:20250330T030000
TZOFFSETFROM:+0100
TZOFFSETTO:+0200
TZNAME:CEST
END:DAYLIGHT
END:VTIMEZONE
END:VCALENDAR