BEGIN:VCALENDAR
VERSION:2.0
PRODID:-//wp-events-plugin.com//7.2.3.1//EN
TZID:Europe/Paris
X-WR-TIMEZONE:Europe/Paris
BEGIN:VEVENT
UID:110@odorokubeki.fr
DTSTART;TZID=Europe/Paris:20250909T170000
DTEND;TZID=Europe/Paris:20250909T190000
DTSTAMP:20250918T172002Z
URL:https://www.odorokubeki.fr/nos-evenements/atelier-amigurumi-au-crochet
 -3
SUMMARY:Atelier Amigurumi au crochet
DESCRIPTION:Atelier de création Amigurumi du 9 Septembre 2025\nAtelier cle
 f en main avec  les conseils d'une passionnée\, nous vous proposons de v
 ous y essayer.\nDébutant ou initié\, nous vous proposons de venir réali
 ser un amigurumi\, une petite créature kawaii (mignonne) au crochet.\nPou
 r l'occasion\, nous proposons des box avec le matériel inclus. Pour une b
 onne organisation\, merci de choisir le kit que vous voulez réaliser avan
 t l'atelier\, les quantités sont limitées.\n\nLe tarif inclue une box et
  une boisson.
ATTACH;FMTTYPE=image/jpeg:https://www.odorokubeki.fr/wp-content/uploads/20
 25/08/PXL_20250717_170424655.jpg
CATEGORIES:Atelier créatif,Événements et ateliers guidés,Événements
 et ateliers payant,Initiation et échange
END:VEVENT
BEGIN:VTIMEZONE
TZID:Europe/Paris
X-LIC-LOCATION:Europe/Paris
BEGIN:DAYLIGHT
DTSTART:20250330T030000
TZOFFSETFROM:+0100
TZOFFSETTO:+0200
TZNAME:CEST
END:DAYLIGHT
END:VTIMEZONE
END:VCALENDAR