BEGIN:VCALENDAR
VERSION:2.0
PRODID:-//wp-events-plugin.com//7.2.3.1//EN
TZID:Europe/Paris
X-WR-TIMEZONE:Europe/Paris
BEGIN:VEVENT
UID:176@odorokubeki.fr
DTSTART;TZID=Europe/Paris:20260604T170000
DTEND;TZID=Europe/Paris:20260604T190000
DTSTAMP:20260305T225807Z
URL:https://www.odorokubeki.fr/nos-evenements/atelier-amigurumi-au-crochet
 -12
SUMMARY:Atelier Amigurumi au crochet
DESCRIPTION:Atelier de création Amigurumi au crochet\nAtelier clef en main
  avec les conseils d'une passionnée\, nous vous proposons de vous y essay
 er.\nDébutant ou initié\, nous vous proposons de venir réaliser un amig
 urumi\, une petite créature kawaii (mignonne) au crochet.\nPour l'occasio
 n\, nous proposons des box avec le matériel inclus. Pour une bonne organi
 sation\, merci de choisir le kit que vous voulez réaliser avant l'atelier
 \, les quantités sont limitées.\n\nLe tarif inclus une box et une boisso
 n.
ATTACH;FMTTYPE=image/jpeg:https://www.odorokubeki.fr/wp-content/uploads/20
 25/11/PXL_20250729_165907642.MP-1.jpg
CATEGORIES:Atelier créatif,Événements et ateliers guidés,Événements
 et ateliers payant,Initiation et échange,Moment détente
END:VEVENT
BEGIN:VTIMEZONE
TZID:Europe/Paris
X-LIC-LOCATION:Europe/Paris
BEGIN:DAYLIGHT
DTSTART:20260329T030000
TZOFFSETFROM:+0100
TZOFFSETTO:+0200
TZNAME:CEST
END:DAYLIGHT
END:VTIMEZONE
END:VCALENDAR