BEGIN:VCALENDAR
VERSION:2.0
PRODID:-//wp-events-plugin.com//7.2.3.1//EN
TZID:Europe/Paris
X-WR-TIMEZONE:Europe/Paris
BEGIN:VEVENT
UID:56@odorokubeki.fr
DTSTART;TZID=Europe/Paris:20250729T170000
DTEND;TZID=Europe/Paris:20250729T190000
DTSTAMP:20250801T152847Z
URL:https://www.odorokubeki.fr/nos-evenements/atelier-amigurumi-2
SUMMARY:Atelier Amigurumi au crochet
DESCRIPTION:Atelier de création Amigurumi du 29 juillet 2025\nAtelier clef
  en main avec  les conseils d'une passionnée\, nous vous proposons de vo
 us y essayer.\nDébutant ou initié\, nous vous proposons de venir réalis
 er un amigurumi\, une petite créature kawaii (mignonne) au crochet.\nPour
  l'occasion\, nous proposons des box avec le matériel inclus. Pour une bo
 nne organisation\, merci de choisir le kit que vous voulez réaliser avant
  l'atelier\, les quantités sont limitées.\n\nLe tarif inclue une box et 
 une boisson.
CATEGORIES:Atelier créatif,Événements et ateliers payant
END:VEVENT
BEGIN:VTIMEZONE
TZID:Europe/Paris
X-LIC-LOCATION:Europe/Paris
BEGIN:DAYLIGHT
DTSTART:20250330T030000
TZOFFSETFROM:+0100
TZOFFSETTO:+0200
TZNAME:CEST
END:DAYLIGHT
END:VTIMEZONE
END:VCALENDAR